Workbook

Sheet begroting_totaal
A1: UITGAVEN
A2: personeelskosten Vlaanderen | C2: =personeelskosten!B27 -> 204102
A3: personeelskosten gemeentegeld | C3: =personeelskosten!B28 -> 20104
A5: kosten van ondersteunende aard Vlaamse middelen | C5: ='kosten van ondersteunende aard'!B43 -> 13150
A6: kosten ondersteunende aard gemeentelijke middelen | C6: ='kosten van ondersteunende aard'!B42 -> 21350
A9: werkingskostenVlaamse middelen | C9: =werkingsmiddelen!B58 -> 77250
A10: werkingskosten gemeentelijke middelen | C10: =werkingsmiddelen!B57 -> 13250
A14: Totaal uitgaven | C14: =SUM(C2:C12) -> 349206 | E14: =C16+C15 -> 349206
A15: Totaal uitgaven Vlaanderen | C15: =C2+C5+C9 -> 294502
A16: Totaal uitgaven gemeenten | C16: =C6+C10+C3 -> 54704
A18: INKOMSTEN
A20: inkomsten gemeentelijke bijdrage | C20: 36500
A21: subsidies cultureel-erfgoedconvenant (gerekend aan indexatie van 5%) | C21: =241131*1.05 -> 253187.55
A22: geschatte overgedragen reserve gemeentelijke middelen | C22: 140339
A23: geschatte overgedragen reserve Vlaamse middelen | C23: 70079
A26: totale inkomsten | C26: =SUM(C20:C24) -> 500105.55
A29: jaartotaal inkomsten-uitgaven: over te dragen winst naar 2024 | C29: =C26-C14 -> 150899.55
A30: waarvan gemeente | C30: =C20+C22-C16 -> 122135
A31: waarvan Vlaams | C31: =C21+C23-C15 -> 28764.55
A32: controle totaal | C32: =C30+C31 -> 150899.55

Sheet personeelskosten
B1: 2023
A2: Personeelskosten
A4: 0,7 VTE coördinator Erfgoed Viersprong ( (niveau A (incl. rsz, bv, eindejaarspremie, vakantiegeld) | B4: 55022
A5: 0,8 VTE coördinator erfgoedcel Viersprong (niveau A (incl. rsz, bv, eindejaarspremie, vakantiegeld | B5: 72200
A6: 1 VTE projectmedewerker, niveau B (incl. rsz, bv, eindejaarspremie, vakantiegeld): 11 jaar anciënniteit | B6: 68830
A8: 0,5 VTE administratief medewerker, niveau C, tweede helft jaar | B8: 19600
A11: verzekering dienstverplaatsing | B11: 750
A12: verzekering AO | B12: 1600
A13: verzekering gezondheidszorg | B13: 500
A14: verzekering BA | B14: 1200
A15: Fietsvergoeding | B15: 750
A17: beheerskosten maaltijdcheques | B17: 100
A18: maaltijdcheques personeelsleden convenant | B18: =3900 -> 3900
A19: maaltijdschques personeelsleden gemeente (0,4 VTE) | B19: =B18/2.5*0.4 -> 624
A20: bijdrage personeel MTC | B20: -750
A21: bijdrage personeel MTC gemeente | B21: =B20/2.5*0.4 -> -120
A26: loonkosten 2,5 VTE | B26: =B4+B5+B6+B17+B18+B20 -> 199302
A27: totaal Vlaamse middelen | B27: =B29-B28 -> 204102
A28: Totaal gemeentelijke middelen | B28: =B8+B19+B21 -> 20104
A29: Algemeen totaal | B29: =SUM(B4:B22) -> 224206

Sheet werkingsmiddelen
A1: SD 1: collectiezorg
A2: OD 1: collectievisie | B2: 250 | C2: vorming en sensibilisering
A3: OD 2: inventarisatie | B3: 250 | C3: sensibilisering, expertise
A4: OD 3: waardering en herbestemming | B4: 1000 | C4: bijdrage organisatie participatiemomenten, algemene ondersteuning en expertise
A5: OD 4: behoud en beheer | B5: 250 | C5: vorming, sensibilisering, promotie uitleendienst
B6: 1000 | C6: tussenkomst groepsaankoop
A7: OD 5: ICE | B7: 17000 | C7: circusproject (15.000), ondersteuning meester-leerlingbeurzen, algemene ondersteuning
A8: OD 6: digitalisering | B8: 9200 | C8: hosting erfgoedbank, budget voor uitwerken toekomst erfgoedbanken
B9: 5000 | C9: onderzoek vernieuwing erfgoedbank
A11: SD 2: zichtbaarheid en participatie
A12: OD 2.1:presentatie en zichtbaarheid | B12: 2500 | C12: erfgoeddag
B13: 500 | C13: Toegankelijke presentatie
B14: 500 | C14: digitale presentatie
A15: SD 2.2: communicatie | B15: 1500 | C15: hosting en onderhoud website
B16: 2000 | C16: algemene communicatie en drukwerk
B17: 500 | C17: uitwerken communicatiebeleidsplan
A19: OD 2.3: brede betrokkenheid | B19: 500 | C19: sensibilisering
B20: 2000 | C20: partnershipprojecten
B21: 10000 | C21: gemeentelijke middelen voor ondersteuning lokale erfgoedprojecten
A22: OD 2.4: inclusie
B23: 250 | C23: Iedereen welkom
B24: 500 | C24: koffers LoS
A25: OD 2.5: GGZ | B25: 5000 | C25: opstart nieuw traject GGZ
A26: O.D 2.6: toerisme | B26: 200 | C26: algemene kosten
A29: SD 3: innovatieve trajecten
A30: OD 3.1 wijkwerking | B30: 10000 | C30: communicatie en campagne op maat van doelgroep | D30: Begrootte eigen inbreng. Rest van de uitgaven op subsidie (bij goedkeuring project)
A31: OD 3.2 mobiliteit | B31: 7500 | C31: algemene voorbereiding, partners en sensibilisering
A33: SD 4 samenwerking en expertisedeling
A34: OD 4.1 expertisedeling IOED | B34: 0
A35: OD 4.2 ondersteuning erfgoedveld | B35: 1000 | C35: organisatie netwerkmoment, reflectiegroep
B36: 1000 | C36: vormingsaanbod
B37: 250 | C37: uitleendienst
A38: OD 4.3 expertise andere beleidsdomeinen | B38: 750 | C38: betaling externe expertise digitalisering (ism Oost-Vlaamse erfgoedcellen) nav vernieuwing erfgoedbanken
B39: 100 | C39: algemene expertiseopbouw
A40: OD 4.4 netwerk lokale politici | B40: 0
A41: OD 4.5 Oost-Vlaamse expertisedeling | B41: 500 | C41: organisatie gezamenlijke trefdag
A42: O.D 4.6 landelijke expertisedeling | B42: 0
A45: SD 5
A46: OD 5.1 interne kennisborging | B46: 1000 | C46: vormingen | D46: 1500 vormingen personeel
A47: OD 5.2 afstemming IOED | B47: 0 | C47: kennismakingsbrochure samen met IOED
...

Sheet kosten van ondersteunende aard
A1: Kosten van ondersteunende aard | B1: 2023
B2: bedrag
A5: dienstreizen | B5: 3000
B6: 600
A8: Huur gebouwen | B8: 4000
A9: verbruikskosten (elektriciteit, gas, telefonie) | B9: 400
A11: huur zalen voor activiteiten/vormingen | B11: 1000
A13: wettelijke publicaties | B13: 150
A15: sociaal secretariaat | B15: 2500
A16: Medische dienst (securex) | B16: 400
A18: abonnement mobiele telefonie | B18: 600
A19: abonnement google drive, paswoordenkluis et | B19: 150
A20: ondersteuning ICT | B20: 500
A21: ICT-abonnementen | B21: 300 | C21: adobe, happy scribe
A22: hosting emailadressen | B22: 500
A24: kantoormateriaal | B24: 3000
A25: verzekering elektronica | B25: 100
A26: briefport | B26: 250
A27: bankkosten | B27: 50
A29: beperkte onthaalkosten | B29: 3000 | C29: ook catering wijkproject
A30: restaurantkosten | B30: 1000
A31: cadeaus en bloemen | B31: 1500
A33: audit (revisor) | B33: 4000
A34: ereloon boekhouder | B34: 5000
A36: afschrijvingen hardware, software en machines
A38: onvoorziene kosten | B38: 2500
A40: lopende afschrijvingen
A42: Totaal gemeentelijke middelen | B42: =SUM(B15:B31)+B34+B38 -> 21350
A43: Totaal Vlaamse middelen | B43: =SUM(B5:B13)+B33 -> 13150
A44: afschrijvingen | B44: =B40 -> 0
A45: Algemeen totaal | B45: =B42+B43+B44 -> 34500
A46: Algemeen totaal controle | B46: =SUM(B5:B40) -> 34500
A49: Totaal volgens code
B50: =SUM(B5:B34)+B38 -> 34500
B51: =B40 -> 0
A52: totaal codes | B52: =B50+B51 -> 34500
